BEGIN:VCALENDAR
PRODID:-//Det Danske Spejderkorps//NONSGML Gruppeweb//EN
VERSION:2.0
CALSCALE:GREGORIAN
X-PUBLISHED-TTL:PT1H
X-WR-CALNAME:Trop i Rethingh-Gruppen
METHOD:PUBLISH
BEGIN:VEVENT
UID:gruppeweb.dk:4306:event:663
DTSTAMP:20260419T131228Z
LAST-MODIFIED:20250107T180338Z
SUMMARY:Sankt Hans
DESCRIPTION:Vi afholder Sankt Hans ved søen\n\n
URL:https://www.rethingh-gruppen.dk/begivenhed/sankt-hans
DTSTART;VALUE=DATE:20250623
LOCATION:Rethingh-Gruppen\, Svendborgvej 87\, 5750 Ringe
END:VEVENT
BEGIN:VEVENT
UID:gruppeweb.dk:4306:event:670
DTSTAMP:20260419T131228Z
LAST-MODIFIED:20250925T205033Z
SUMMARY:Trop - Brainstorm til efterårets program
DESCRIPTION:\n
URL:https://www.rethingh-gruppen.dk/begivenhed/trop-brainstorm-til-efteraar
 ets-program
DTSTART:20250917T170000Z
DTEND:20250917T190000Z
LOCATION:Rethingh-Gruppen\, Svendborgvej 87\, 5750 Ringe
END:VEVENT
BEGIN:VEVENT
UID:gruppeweb.dk:4306:event:672
DTSTAMP:20260419T131228Z
LAST-MODIFIED:20250925T205029Z
SUMMARY:Trop - Pionering
DESCRIPTION:\n
URL:https://www.rethingh-gruppen.dk/begivenhed/trop-pionering
DTSTART:20250924T170000Z
DTEND:20250924T190000Z
LOCATION:Rethingh-Gruppen\, Svendborgvej 87\, 5750 Ringe
END:VEVENT
BEGIN:VEVENT
UID:gruppeweb.dk:4306:event:671
DTSTAMP:20260419T131228Z
LAST-MODIFIED:20250925T205030Z
SUMMARY:Trop - Afpionering + Simons OnePot Special på Trangia
DESCRIPTION:\n
URL:https://www.rethingh-gruppen.dk/begivenhed/trop-afpionering-simons-onep
 ot-special-paa-trangia
DTSTART:20251001T170000Z
DTEND:20251001T190000Z
LOCATION:Rethingh-Gruppen\, Svendborgvej 87\, 5750 Ringe
END:VEVENT
BEGIN:VEVENT
UID:gruppeweb.dk:4306:event:669
DTSTAMP:20260419T131228Z
LAST-MODIFIED:20250925T205026Z
SUMMARY:Trop - Ro På mærket (1/3)
DESCRIPTION:\n
URL:https://www.rethingh-gruppen.dk/begivenhed/trop-ro-paa-maerket-13
DTSTART:20251008T170000Z
DTEND:20251008T190000Z
LOCATION:Rethingh-Gruppen\, Svendborgvej 87\, 5750 Ringe
END:VEVENT
BEGIN:VEVENT
UID:gruppeweb.dk:4306:event:676
DTSTAMP:20260419T131228Z
LAST-MODIFIED:20250925T205028Z
SUMMARY:Trop - Efterårsferie
DESCRIPTION:\n
URL:https://www.rethingh-gruppen.dk/begivenhed/trop-efteraarsferie
DTSTART:20251015T170000Z
DTEND:20251015T190000Z
LOCATION:Rethingh-Gruppen\, Svendborgvej 87\, 5750 Ringe
END:VEVENT
BEGIN:VEVENT
UID:gruppeweb.dk:4306:event:678
DTSTAMP:20260419T131228Z
LAST-MODIFIED:20250925T205027Z
SUMMARY:Trop - Forberedelse til Fenris (bygge bivuak og samle grej) plus ev
 t. pandekager
DESCRIPTION:\n
URL:https://www.rethingh-gruppen.dk/begivenhed/trop-forberedelse-til-fenris
 -bygge-bivuak-og-samle-grej-plus-evt-pandekager
DTSTART:20251022T170000Z
DTEND:20251022T190000Z
LOCATION:Rethingh-Gruppen\, Svendborgvej 87\, 5750 Ringe
END:VEVENT
BEGIN:VEVENT
UID:gruppeweb.dk:4306:event:677
DTSTAMP:20260419T131228Z
LAST-MODIFIED:20250925T205031Z
SUMMARY:Trop - Fenrisløbet
DESCRIPTION:\n
URL:https://www.rethingh-gruppen.dk/begivenhed/trop-fenrisloebet
DTSTART:20251025T101500Z
DTEND:20251026T093000Z
LOCATION:Rethingh-Gruppen\, Svendborgvej 87\, 5750 Ringe
END:VEVENT
BEGIN:VEVENT
UID:gruppeweb.dk:4306:event:674
DTSTAMP:20260419T131228Z
LAST-MODIFIED:20250925T205034Z
SUMMARY:Trop - Ro På mærket (2/3)
DESCRIPTION:\n
URL:https://www.rethingh-gruppen.dk/begivenhed/trop-ro-paa-maerket-23
DTSTART:20251029T180000Z
DTEND:20251029T200000Z
LOCATION:Rethingh-Gruppen\, Svendborgvej 87\, 5750 Ringe
END:VEVENT
BEGIN:VEVENT
UID:gruppeweb.dk:4306:event:675
DTSTAMP:20260419T131228Z
LAST-MODIFIED:20250925T205035Z
SUMMARY:Trop - Madlavning (SL2026 opskrift)
DESCRIPTION:\n
URL:https://www.rethingh-gruppen.dk/begivenhed/trop-madlavning-sl2026-opskr
 ift
DTSTART:20251105T180000Z
DTEND:20251105T200000Z
LOCATION:Rethingh-Gruppen\, Svendborgvej 87\, 5750 Ringe
END:VEVENT
BEGIN:VEVENT
UID:gruppeweb.dk:4306:event:681
DTSTAMP:20260419T131228Z
LAST-MODIFIED:20250925T205031Z
SUMMARY:Trop - Slibning af knive og sy mærker på aften (hygge med te)
DESCRIPTION:\n
URL:https://www.rethingh-gruppen.dk/begivenhed/trop-slibning-af-knive-og-sy
 -maerker-paa-aften-hygge-med-te
DTSTART:20251112T180000Z
DTEND:20251112T200000Z
LOCATION:Rethingh-Gruppen\, Svendborgvej 87\, 5750 Ringe
END:VEVENT
BEGIN:VEVENT
UID:gruppeweb.dk:4306:event:680
DTSTAMP:20260419T131228Z
LAST-MODIFIED:20250925T205034Z
SUMMARY:Trop - Lagkageløb
DESCRIPTION:\n
URL:https://www.rethingh-gruppen.dk/begivenhed/trop-lagkageloeb
DTSTART:20251119T180000Z
DTEND:20251119T200000Z
LOCATION:Rethingh-Gruppen\, Svendborgvej 87\, 5750 Ringe
END:VEVENT
BEGIN:VEVENT
UID:gruppeweb.dk:4306:event:679
DTSTAMP:20260419T131228Z
LAST-MODIFIED:20250925T201235Z
SUMMARY:Rethingh juletur
DESCRIPTION:\n
URL:https://www.rethingh-gruppen.dk/begivenhed/rethingh-juletur
DTSTART;VALUE=DATE:20251121
DTEND;VALUE=DATE:20251124
LOCATION:Rethingh-Gruppen\, Svendborgvej 87\, 5750 Ringe
END:VEVENT
BEGIN:VEVENT
UID:gruppeweb.dk:4306:event:687
DTSTAMP:20260419T131228Z
LAST-MODIFIED:20251104T213539Z
SUMMARY:Rethingh-gruppen juletur 2025
DESCRIPTION:Rethingh-gruppen\n\n Juletur 2025\n\n\n\n\n\n\n\n\n\nVi tager 
 på juletur i weekenden den 21. november - 23. november. Turen er  \nfor h
 ele gruppen\, helt nede fra mikro og helt op til klan. Vi mødes ved  \nvo
 res egen hytte fredag  kl. 15.30 og der er afgang kl. 16\,  Vi forventer
   \nat være hjemme igen søndag kl. 13\n\n\nI år går turen til Hylkedam
  ved Gelsted.\n\n\n\nVi skal være både ude og inde\, så husk at pakke t
 il begge dele. \n\nOg medbring gerne nissehue og de tykke julestrømper.\
 n\n\nVi har brug for hjælp både til kørsel\, kagebagning og 2-3 persone
 r som vil  \nmed på turen som køkkenhjælp - alt dette melder I ind når
  I tilmelder  \njeres barn.\n\n\nPris for turen: 400\,-\n\n\nTilmelding se
 nest den 16. november 2025 via oprettet \n\narrangement på hjemmesiden\,
  og udsendt på mail.\n\n\nMed spejderhilsen\n\nLederne\n\n\n\n\n\n
URL:https://www.rethingh-gruppen.dk/begivenhed/rethingh-gruppen-juletur-202
 5
DTSTART:20251121T150000Z
DTEND:20251123T110000Z
LOCATION:Rethingh-Gruppen\, Svendborgvej 87\, 5750 Ringe
END:VEVENT
BEGIN:VEVENT
UID:gruppeweb.dk:4306:event:682
DTSTAMP:20260419T131228Z
LAST-MODIFIED:20250925T205032Z
SUMMARY:Trop - Lege med ild - sjovt\, dumt og farligt
DESCRIPTION:\n
URL:https://www.rethingh-gruppen.dk/begivenhed/trop-lege-med-ild-sjovt-dumt
 -og-farligt
DTSTART:20251126T180000Z
DTEND:20251126T200000Z
LOCATION:Rethingh-Gruppen\, Svendborgvej 87\, 5750 Ringe
END:VEVENT
BEGIN:VEVENT
UID:gruppeweb.dk:4306:event:684
DTSTAMP:20260419T131228Z
LAST-MODIFIED:20250925T205036Z
SUMMARY:Trop - Vi laver juleknas
DESCRIPTION:\n
URL:https://www.rethingh-gruppen.dk/begivenhed/trop-vi-laver-juleknas
DTSTART:20251203T180000Z
DTEND:20251203T200000Z
LOCATION:Rethingh-Gruppen\, Svendborgvej 87\, 5750 Ringe
END:VEVENT
BEGIN:VEVENT
UID:gruppeweb.dk:4306:event:683
DTSTAMP:20260419T131228Z
LAST-MODIFIED:20251208T105505Z
SUMMARY:Juleafslutning
DESCRIPTION:\n
URL:https://www.rethingh-gruppen.dk/begivenhed/juleafslutning-4
DTSTART:20251210T160000Z
DTEND:20251210T180000Z
LOCATION:Rethingh-Gruppen\, Svendborgvej 87\, 5750 Ringe
END:VEVENT
BEGIN:VEVENT
UID:gruppeweb.dk:4306:event:690
DTSTAMP:20260419T131228Z
LAST-MODIFIED:20260105T181632Z
SUMMARY:Trop: Svedehytte
DESCRIPTION:Det bliver rigtigt dejligt koldt\, så vi bygger en svedehytte 
 og prøver den  \naf. Varmt tøj og badetøj samt pandelampe\n\n
URL:https://www.rethingh-gruppen.dk/begivenhed/trop-svedehytte
DTSTART:20260107T180000Z
DTEND:20260107T200000Z
LOCATION:Rethingh-Gruppen\, Svendborgvej 87\, 5750 Ringe
END:VEVENT
BEGIN:VEVENT
UID:gruppeweb.dk:4306:event:689
DTSTAMP:20260419T131228Z
LAST-MODIFIED:20260105T182702Z
SUMMARY:Spejdernes nytårsparade
DESCRIPTION:Spejdernes nytårsparade. Tag hele familien med. Ved Ringe Kirk
 e. Afslutning  \nved sognegården\n\n
URL:https://www.rethingh-gruppen.dk/begivenhed/spejdernes-nytaarsparade
DTSTART:20260110T093000Z
DTEND:20260110T120000Z
LOCATION:
END:VEVENT
BEGIN:VEVENT
UID:gruppeweb.dk:4306:event:691
DTSTAMP:20260419T131228Z
LAST-MODIFIED:20260105T182700Z
SUMMARY:Trop: Ro på
DESCRIPTION:Forløb "Ro på". Afslutter med noget lækkert på bål    
 \n\n
URL:https://www.rethingh-gruppen.dk/begivenhed/trop-ro-paa
DTSTART:20260114T180000Z
DTEND:20260114T200000Z
LOCATION:Rethingh-Gruppen\, Svendborgvej 87\, 5750 Ringe
END:VEVENT
BEGIN:VEVENT
UID:gruppeweb.dk:4306:event:692
DTSTAMP:20260419T131228Z
LAST-MODIFIED:20260105T182701Z
SUMMARY:Trop: Hjælp\, vi er blevet droppet
DESCRIPTION:Hjælp\, vi er blevet droppet (et ukendt sted)\n\n
URL:https://www.rethingh-gruppen.dk/begivenhed/trop-hjaelp-vi-er-blevet-dro
 ppet
DTSTART:20260121T180000Z
DTEND:20260121T200000Z
LOCATION:
END:VEVENT
BEGIN:VEVENT
UID:gruppeweb.dk:4306:event:694
DTSTAMP:20260419T131228Z
LAST-MODIFIED:20260105T190741Z
SUMMARY:Trop: Lejrstol 1 af 2
DESCRIPTION:Vi laver en stol som vi kan tage med på tur.\n\n
URL:https://www.rethingh-gruppen.dk/begivenhed/trop-lejrstol-1-af-2
DTSTART:20260128T180000Z
DTEND:20260128T200000Z
LOCATION:
END:VEVENT
BEGIN:VEVENT
UID:gruppeweb.dk:4306:event:693
DTSTAMP:20260419T131228Z
LAST-MODIFIED:20260105T191925Z
SUMMARY:Trop: Lejrstol 2 af 2
DESCRIPTION:Så skal vi se at blive færdige med de lejrstole. Skal de mon 
 pyntes og  \npimpes med et håndtag?\n\n
URL:https://www.rethingh-gruppen.dk/begivenhed/trop-lejrstol-2-af-2
DTSTART:20260204T180000Z
DTEND:20260204T200000Z
LOCATION:
END:VEVENT
BEGIN:VEVENT
UID:gruppeweb.dk:4306:event:696
DTSTAMP:20260419T131228Z
LAST-MODIFIED:20260105T191924Z
SUMMARY:Trop: Vinterferie
DESCRIPTION:Øv. Der er vinterferie\n\n
URL:https://www.rethingh-gruppen.dk/begivenhed/trop-vinterferie
DTSTART:20260211T000000Z
DTEND:20260211T200000Z
LOCATION:
END:VEVENT
BEGIN:VEVENT
UID:gruppeweb.dk:4306:event:697
DTSTAMP:20260419T131228Z
LAST-MODIFIED:20260105T191927Z
SUMMARY:Trop: Ro på
DESCRIPTION:Sjak af 2-3 drager ud med en Trangia og laver noget varm chokol
 ade. \n\n
URL:https://www.rethingh-gruppen.dk/begivenhed/trop-ro-paa-0
DTSTART:20260218T180000Z
DTEND:20260218T200000Z
LOCATION:
END:VEVENT
BEGIN:VEVENT
UID:gruppeweb.dk:4306:event:698
DTSTAMP:20260419T131228Z
LAST-MODIFIED:20260105T191928Z
SUMMARY:Trop: Mad SL2026 1 af 4
DESCRIPTION:Vi afprøver de forskellige retter i SL2026 kogebogen. \n\n
URL:https://www.rethingh-gruppen.dk/begivenhed/trop-mad-sl2026-1-af-4
DTSTART:20260225T180000Z
DTEND:20260225T200000Z
LOCATION:
END:VEVENT
BEGIN:VEVENT
UID:gruppeweb.dk:4306:event:695
DTSTAMP:20260419T131228Z
LAST-MODIFIED:20260105T191923Z
SUMMARY:Trop: Planlæg selv
DESCRIPTION:2-3 tropspejdere planlægger aftenens møde. I spørger selvfø
 lgelig\, hvis I  \nhar brug for hjælp\n\n
URL:https://www.rethingh-gruppen.dk/begivenhed/trop-planlaeg-selv
DTSTART:20260304T180000Z
DTEND:20260304T200000Z
LOCATION:
END:VEVENT
BEGIN:VEVENT
UID:gruppeweb.dk:4306:event:701
DTSTAMP:20260419T131228Z
LAST-MODIFIED:20260105T193013Z
SUMMARY:Trop: Smedning
DESCRIPTION:Vi skal prøve at arbejde med rødglødende jern. Pas på nalle
 rne!\n\n
URL:https://www.rethingh-gruppen.dk/begivenhed/trop-smedning
DTSTART:20260311T180000Z
DTEND:20260311T200000Z
LOCATION:
END:VEVENT
BEGIN:VEVENT
UID:gruppeweb.dk:4306:event:700
DTSTAMP:20260419T131228Z
LAST-MODIFIED:20260105T193011Z
SUMMARY:Trop: Blider
DESCRIPTION:Vi bygger blider i pionering og skyder med ildkugler. Godt der 
 ikke er nogen  \nder ved\, hvad vi går og laver...\n\n
URL:https://www.rethingh-gruppen.dk/begivenhed/trop-blider
DTSTART:20260318T180000Z
DTEND:20260318T200000Z
LOCATION:
END:VEVENT
BEGIN:VEVENT
UID:gruppeweb.dk:4306:event:699
DTSTAMP:20260419T131228Z
LAST-MODIFIED:20260105T194057Z
SUMMARY:Trop: Mad SL2026 2 af 4
DESCRIPTION:Endnu engang prøver vi kræfter med de vegetariske retter fra 
 SL2026'  \nkogebog\n\n
URL:https://www.rethingh-gruppen.dk/begivenhed/trop-mad-sl2026-2-af-4
DTSTART:20260325T180000Z
DTEND:20260325T200000Z
LOCATION:
END:VEVENT
BEGIN:VEVENT
UID:gruppeweb.dk:4306:event:714
DTSTAMP:20260419T131228Z
LAST-MODIFIED:20260213T181049Z
SUMMARY:Trop: Påskeferie
DESCRIPTION:Øv igen. Endnu en kedelig ferie\n\n
URL:https://www.rethingh-gruppen.dk/begivenhed/trop-paaskeferie
DTSTART:20260401T170000Z
DTEND:20260401T190000Z
LOCATION:
END:VEVENT
BEGIN:VEVENT
UID:gruppeweb.dk:4306:event:706
DTSTAMP:20260419T131228Z
LAST-MODIFIED:20260105T194059Z
SUMMARY:Trop: Almas kanelsnegle
DESCRIPTION:Det er blevet tid til at prøve at lave kanelsnegle igen. Så m
 å vi se\, om  \nalle kan tåle dem denne gang\n\n
URL:https://www.rethingh-gruppen.dk/begivenhed/trop-almas-kanelsnegle
DTSTART:20260408T170000Z
DTEND:20260408T190000Z
LOCATION:
END:VEVENT
BEGIN:VEVENT
UID:gruppeweb.dk:4306:event:705
DTSTAMP:20260419T131228Z
LAST-MODIFIED:20260105T194056Z
SUMMARY:Trop: Planlæg selv
DESCRIPTION:Så er det et nyt sjak der planlægger aftenens møde. Spørg h
 vis I har brug  \nfor hjælp\n\n
URL:https://www.rethingh-gruppen.dk/begivenhed/trop-planlaeg-selv-0
DTSTART:20260415T170000Z
DTEND:20260415T190000Z
LOCATION:
END:VEVENT
BEGIN:VEVENT
UID:gruppeweb.dk:4306:event:703
DTSTAMP:20260419T131228Z
LAST-MODIFIED:20260105T194035Z
SUMMARY:Trop: Fut i den
DESCRIPTION:Overskriften siger jo alt\n\n
URL:https://www.rethingh-gruppen.dk/begivenhed/trop-fut-i-den
DTSTART:20260422T170000Z
DTEND:20260422T190000Z
LOCATION:
END:VEVENT
BEGIN:VEVENT
UID:gruppeweb.dk:4306:event:704
DTSTAMP:20260419T131228Z
LAST-MODIFIED:20260105T194052Z
SUMMARY:Trop: Mad SL2026 3 af 4
DESCRIPTION:Det ender med\, at vi bliver helt vilde med vegetarisk mad.\n\n
URL:https://www.rethingh-gruppen.dk/begivenhed/trop-mad-sl2026-3-af-4
DTSTART:20260429T170000Z
DTEND:20260429T190000Z
LOCATION:
END:VEVENT
BEGIN:VEVENT
UID:gruppeweb.dk:4306:event:702
DTSTAMP:20260419T131228Z
LAST-MODIFIED:20260105T195127Z
SUMMARY:Trop: Træklatring
DESCRIPTION:Træklatring på Galgebakken. \n\n
URL:https://www.rethingh-gruppen.dk/begivenhed/trop-traeklatring
DTSTART:20260506T170000Z
DTEND:20260506T190000Z
LOCATION:
END:VEVENT
BEGIN:VEVENT
UID:gruppeweb.dk:4306:event:711
DTSTAMP:20260419T131228Z
LAST-MODIFIED:20260105T195133Z
SUMMARY:Trop: Pionering
DESCRIPTION:Vi skal øve os i pionering. Der skal bygges dele til en lejrpl
 ads (bord\,  \nkøkkenbord\, brændeskjul\, ...)\n\n
URL:https://www.rethingh-gruppen.dk/begivenhed/trop-pionering-0
DTSTART:20260513T170000Z
DTEND:20260513T190000Z
LOCATION:
END:VEVENT
BEGIN:VEVENT
UID:gruppeweb.dk:4306:event:710
DTSTAMP:20260419T131228Z
LAST-MODIFIED:20260105T195128Z
SUMMARY:Trop: Planlæg selv
DESCRIPTION:Sidste sjak planlægger aftenens møde    \n\n
URL:https://www.rethingh-gruppen.dk/begivenhed/trop-planlaeg-selv-1
DTSTART:20260520T170000Z
DTEND:20260520T190000Z
LOCATION:
END:VEVENT
BEGIN:VEVENT
UID:gruppeweb.dk:4306:event:709
DTSTAMP:20260419T131228Z
LAST-MODIFIED:20260105T195122Z
SUMMARY:Trop: Mad SL2026 4 af 4
DESCRIPTION:Sidste omgang af mad fra SL2026' kogebog\n\n
URL:https://www.rethingh-gruppen.dk/begivenhed/trop-mad-sl2026-4-af-4
DTSTART:20260527T170000Z
DTEND:20260527T190000Z
LOCATION:
END:VEVENT
BEGIN:VEVENT
UID:gruppeweb.dk:4306:event:718
DTSTAMP:20260419T131228Z
LAST-MODIFIED:20260406T200537Z
SUMMARY:Trop: Divisionsturnering
DESCRIPTION:Vi deltager selvfølgelig i årets divisionsturnering. Klarer v
 i det godt  \nigen i år?\n\nLoco skriver:\n\nI år afholdes turneringen v
 ed Danehofhytten d. 29. til 31. maj\nVi skal bruge weekenden på at lære 
 hinanden at kende\, teste vores\nspejderfærdigheder og lære nye færdigh
 eder. Vi skal på weekenden\,  \nkonkurrere\nmod hinanden i forskellige f
 ærdigheder\, blandt andet madlavning\,\nlejropbygning\, og alt der imelle
 m.\nVi er udenfor hele weekenden\, og sover også udenfor i telt\, så hus
 k at  \npakke\nefter vejret! Det er bedre med en trøje for meget\, end at
  stå med en  \ngennemblødt\ntrøje\, og ikke kunne skifte til en tør.\n
 \n
URL:https://www.rethingh-gruppen.dk/begivenhed/trop-divisionsturnering
DTSTART:20260529T160000Z
DTEND:20260531T100000Z
LOCATION:Rethingh-Gruppen\, Svendborgvej 87\, 5750 Ringe
END:VEVENT
BEGIN:VEVENT
UID:gruppeweb.dk:4306:event:708
DTSTAMP:20260419T131228Z
LAST-MODIFIED:20260105T195116Z
SUMMARY:Trop: Knob og taklinger
DESCRIPTION:Vi tager lige en omgang med knob og taklinger. I ved\, det der 
  \nråbånds-hvad-for-noget-det-har-jeg-aldrig-hørt-om-knob.\n\n
URL:https://www.rethingh-gruppen.dk/begivenhed/trop-knob-og-taklinger
DTSTART:20260603T170000Z
DTEND:20260603T190000Z
LOCATION:
END:VEVENT
BEGIN:VEVENT
UID:gruppeweb.dk:4306:event:712
DTSTAMP:20260419T131228Z
LAST-MODIFIED:20260105T195134Z
SUMMARY:Trop: Forberedelse til SL2026
DESCRIPTION:Vi hjælper med til at pakke til SL2026. \n\n
URL:https://www.rethingh-gruppen.dk/begivenhed/trop-forberedelse-til-sl2026
DTSTART:20260610T170000Z
DTEND:20260610T190000Z
LOCATION:
END:VEVENT
BEGIN:VEVENT
UID:gruppeweb.dk:4306:event:723
DTSTAMP:20260419T131228Z
LAST-MODIFIED:20260415T071055Z
SUMMARY:Sommer afslutning
DESCRIPTION:\n
URL:https://www.rethingh-gruppen.dk/begivenhed/sommer-afslutning
DTSTART;VALUE=DATE:20260617
LOCATION:Rethingh-Gruppen\, Svendborgvej 87\, 5750 Ringe
END:VEVENT
BEGIN:VEVENT
UID:gruppeweb.dk:4306:event:707
DTSTAMP:20260419T131228Z
LAST-MODIFIED:20260105T200149Z
SUMMARY:Trop: Sommerafslutning
DESCRIPTION:Sommerafslutning for hele gruppen\n\n
URL:https://www.rethingh-gruppen.dk/begivenhed/trop-sommerafslutning
DTSTART:20260617T170000Z
DTEND:20260617T190000Z
LOCATION:
END:VEVENT
BEGIN:VEVENT
UID:gruppeweb.dk:4306:event:713
DTSTAMP:20260419T131228Z
LAST-MODIFIED:20260409T184121Z
SUMMARY:Spejdernes Lejr 2026 (eftertilmelding)
DESCRIPTION:Spejdernes Lejr foregår fra 18. til 26. juli 2026 i Hedeland N
 aturpark. Det  \ner otte dage fulde af sjove aktiviteter\, nye venskaber\,
  store oplevelser og  \nmasser af spejderliv sammen med dem du kender fra 
 gruppen\, men med rig  \nmulighed for at møde spejdere på tværs af korp
 s fra resten af Danmark og  \nhele verden.\n\n\nVi fra Rethingh-gruppen sk
 al selvfølgelig med\, og vi håber\, at DU også vil  \nvære en del af o
 plevelsen!\n\nHvorfor skal du med på Spejdernes Lejr 2026?\n\nSpejdernes 
 Lejr er en lidt større oplevelse\, end du er vant til fra  \ngruppeture o
 g centerlejre. Lejren foregår hvert fjerde år forskellige  \nsteder i Da
 nmark. Hvis du tager med på Spejdernes Lejr 2026 får du:\n\n * En hel ug
 e fyldt med aktiviteter\, udfordringer og oplevelser.\n * Et unikt fælles
 skab med spejdere fra hele landet (og resten af verden).\n * Oplevelsen af
  en spejderby\, hvor 30.000 børn\, unge og voksne bor\, leger\,\n   lære
 r og arbejder sammen.\n * Minder for livet!    \n\n\n\nHvis man ønske
 r at deltage som frivillig så se mulighederne og tilmeld dig  \nher: http
 s://spejderneslejr.dk/de-frivilliges-faellesskab/ [1]\n\n\n[1] https://spe
 jderneslejr.dk/de-frivilliges-faellesskab/\n
URL:https://www.rethingh-gruppen.dk/begivenhed/spejdernes-lejr-2026-efterti
 lmelding
DTSTART:20260718T050000Z
DTEND:20260726T140000Z
LOCATION:Rethingh-Gruppen\, Svendborgvej 87\, 5750 Ringe
END:VEVENT
BEGIN:VEVENT
UID:gruppeweb.dk:4306:event:719
DTSTAMP:20260419T131228Z
LAST-MODIFIED:20260409T184122Z
SUMMARY:Spejdernes Lejr 2026 (kopi)
DESCRIPTION:Spejdernes Lejr foregår fra 18. til 26. juli 2026 i Hedeland N
 aturpark. Det  \ner otte dage fulde af sjove aktiviteter\, nye venskaber\,
  store oplevelser og  \nmasser af spejderliv sammen med dem du kender fra 
 gruppen\, men med rig  \nmulighed for at møde spejdere på tværs af korp
 s fra resten af Danmark og  \nhele verden.\n\n\nVi fra Rethingh-gruppen sk
 al selvfølgelig med\, og vi håber\, at DU også vil  \nvære en del af o
 plevelsen!\n\nHvorfor skal du med på Spejdernes Lejr 2026?\n\nSpejdernes 
 Lejr er en lidt større oplevelse\, end du er vant til fra  \ngruppeture o
 g centerlejre. Lejren foregår hvert fjerde år forskellige  \nsteder i Da
 nmark. Hvis du tager med på Spejdernes Lejr 2026 får du:\n\n * En hel ug
 e fyldt med aktiviteter\, udfordringer og oplevelser.\n * Et unikt fælles
 skab med spejdere fra hele landet (og resten af verden).\n * Oplevelsen af
  en spejderby\, hvor 30.000 børn\, unge og voksne bor\, leger\,\n   lære
 r og arbejder sammen.\n * Minder for livet!    \n\n\n\nHvis man ønske
 r at deltage som frivillig så se mulighederne og tilmeld dig  \nher: http
 s://spejderneslejr.dk/de-frivilliges-faellesskab/ [1]\n\n\n[1] https://spe
 jderneslejr.dk/de-frivilliges-faellesskab/\n
URL:https://www.rethingh-gruppen.dk/begivenhed/spejdernes-lejr-2026-kopi
DTSTART:20260718T050000Z
DTEND:20260726T140000Z
LOCATION:Rethingh-Gruppen\, Svendborgvej 87\, 5750 Ringe
END:VEVENT
END:VCALENDAR
