BEGIN:VCALENDAR
PRODID:-//Det Danske Spejderkorps//NONSGML Gruppeweb//EN
VERSION:2.0
CALSCALE:GREGORIAN
X-PUBLISHED-TTL:PT1H
X-WR-CALNAME:Mikroer i Rethingh-Gruppen
METHOD:PUBLISH
BEGIN:VEVENT
UID:gruppeweb.dk:4306:event:665
DTSTAMP:20260425T140200Z
LAST-MODIFIED:20250424T183044Z
SUMMARY:Spejdertur med overnatning i hytten\, FaMikMin + Spejderdag
DESCRIPTION:Kære Mikro-Mini spejdere\n\n*\n*\n\nSå er det tid til at vi s
 kal på tur\, denne gang er den slået sammen med to  \narrangementer\, ne
 mlig FaMikMin dag\, hvor alle Familie\, Mikro og Mini spejder  \ni Egeskov
  division mødes for at dyste i spejderfærdigheder samt Spejderdag  \n202
 5\, hvor I har mulighed for at invitere venner og familie med til at prøv
 e  \nspejderlivet af.\n\n*\n*\n\nVi mødes lørdag d.10. maj kl.9.00 ved h
 ytten\, hvor vi sætter oppakning af  \nog herefter er der fælleskørsel 
 til Egeskov\, hvor vi skal være kl. 10. Vi  \nslutter ca. kl. 15 på Eges
 kov og har brug for forældre til at køre retur  \ntil hytten\, hvor der 
 vil være leg\, aftensmad og aftenhygge inden sengetid.\n\n*\n*\n\nSøndag
  d. 11. maj kl.11.00 starter Spejderdag\, hvor vi skal på løb og er  \nf
 ærdige kl. 14. alle som I inviterer med skal tilmelde sig via vores  \nhj
 emmeside.\n\nhttps://www.rethingh-gruppen.dk/kampagne/spejderdag [1]\n\n*\
 n*\n\nI skal medbringe passende tøj og fodtøj\, uniform med Egeskovsmær
 ke\, (det  \ner adgangsbilletten til egeskov\, uden den ingen adgang) en l
 ille turtaske med  \nmadpakke og drikkedunk.\n\n*\n*\n\nAlle tilmeldinger 
 skal ske på https://www.rethingh-gruppen.dk/ under  \narrangementer.\n\n*
 \n*\n\nMvh. mikro mini lederne.\n\n\nEr der spørgsmål så tag fat i os e
 ller ring til Michael på tlf. 60878492\n\n\n[1] https://www.rethingh-grup
 pen.dk/kampagne/spejderdag\n
URL:https://www.rethingh-gruppen.dk/begivenhed/spejdertur-med-overnatning-i
 -hytten-famikmin-spejderdag
DTSTART:20250510T070000Z
DTEND:20250511T120000Z
LOCATION:Rethingh-Gruppen\, Svendborgvej 87\, 5750 Ringe
END:VEVENT
BEGIN:VEVENT
UID:gruppeweb.dk:4306:event:663
DTSTAMP:20260425T140200Z
LAST-MODIFIED:20250107T180338Z
SUMMARY:Sankt Hans
DESCRIPTION:Vi afholder Sankt Hans ved søen\n\n
URL:https://www.rethingh-gruppen.dk/begivenhed/sankt-hans
DTSTART;VALUE=DATE:20250623
LOCATION:Rethingh-Gruppen\, Svendborgvej 87\, 5750 Ringe
END:VEVENT
BEGIN:VEVENT
UID:gruppeweb.dk:4306:event:687
DTSTAMP:20260425T140200Z
LAST-MODIFIED:20251104T213539Z
SUMMARY:Rethingh-gruppen juletur 2025
DESCRIPTION:Rethingh-gruppen\n\n Juletur 2025\n\n\n\n\n\n\n\n\n\nVi tager 
 på juletur i weekenden den 21. november - 23. november. Turen er  \nfor h
 ele gruppen\, helt nede fra mikro og helt op til klan. Vi mødes ved  \nvo
 res egen hytte fredag  kl. 15.30 og der er afgang kl. 16\,  Vi forventer
   \nat være hjemme igen søndag kl. 13\n\n\nI år går turen til Hylkedam
  ved Gelsted.\n\n\n\nVi skal være både ude og inde\, så husk at pakke t
 il begge dele. \n\nOg medbring gerne nissehue og de tykke julestrømper.\
 n\n\nVi har brug for hjælp både til kørsel\, kagebagning og 2-3 persone
 r som vil  \nmed på turen som køkkenhjælp - alt dette melder I ind når
  I tilmelder  \njeres barn.\n\n\nPris for turen: 400\,-\n\n\nTilmelding se
 nest den 16. november 2025 via oprettet \n\narrangement på hjemmesiden\,
  og udsendt på mail.\n\n\nMed spejderhilsen\n\nLederne\n\n\n\n\n\n
URL:https://www.rethingh-gruppen.dk/begivenhed/rethingh-gruppen-juletur-202
 5
DTSTART:20251121T150000Z
DTEND:20251123T110000Z
LOCATION:Rethingh-Gruppen\, Svendborgvej 87\, 5750 Ringe
END:VEVENT
BEGIN:VEVENT
UID:gruppeweb.dk:4306:event:683
DTSTAMP:20260425T140200Z
LAST-MODIFIED:20251208T105505Z
SUMMARY:Juleafslutning
DESCRIPTION:\n
URL:https://www.rethingh-gruppen.dk/begivenhed/juleafslutning-4
DTSTART:20251210T160000Z
DTEND:20251210T180000Z
LOCATION:Rethingh-Gruppen\, Svendborgvej 87\, 5750 Ringe
END:VEVENT
BEGIN:VEVENT
UID:gruppeweb.dk:4306:event:689
DTSTAMP:20260425T140200Z
LAST-MODIFIED:20260105T182702Z
SUMMARY:Spejdernes nytårsparade
DESCRIPTION:Spejdernes nytårsparade. Tag hele familien med. Ved Ringe Kirk
 e. Afslutning  \nved sognegården\n\n
URL:https://www.rethingh-gruppen.dk/begivenhed/spejdernes-nytaarsparade
DTSTART:20260110T093000Z
DTEND:20260110T120000Z
LOCATION:
END:VEVENT
BEGIN:VEVENT
UID:gruppeweb.dk:4306:event:715
DTSTAMP:20260425T140200Z
LAST-MODIFIED:20260318T173630Z
SUMMARY:Mikro overnatning i egen hytte
DESCRIPTION:*Kære Mikroer*\nÅrets første overnatning kommer til at ryste
  os sammen og opdage hinanden  \npå ny. Vi skal hygge\, ud at marchere\, 
 bygge huler\, lave mad og dykke dybere  \nned i vores to forløb\; hulebyg
 ger og god kammerat. \nDet bliver et døgn med grin og leg\, udfordringer
  og nye kompetencer\, gode  \nkammerater og massere af spejderliv. \nnær
 mere info om program\, aktiviteter samt pakkeliste følger.\nFor nu har vi
  bare brug for at vide om /DU/ kommer? \n\n
URL:https://www.rethingh-gruppen.dk/begivenhed/mikro-overnatning-i-egen-hyt
 te
DTSTART:20260321T080000Z
DTEND:20260322T090000Z
LOCATION:Rethingh-Gruppen\, Svendborgvej 87\, 5750 Ringe
END:VEVENT
BEGIN:VEVENT
UID:gruppeweb.dk:4306:event:723
DTSTAMP:20260425T140200Z
LAST-MODIFIED:20260415T071055Z
SUMMARY:Sommer afslutning
DESCRIPTION:\n
URL:https://www.rethingh-gruppen.dk/begivenhed/sommer-afslutning
DTSTART;VALUE=DATE:20260617
LOCATION:Rethingh-Gruppen\, Svendborgvej 87\, 5750 Ringe
END:VEVENT
BEGIN:VEVENT
UID:gruppeweb.dk:4306:event:707
DTSTAMP:20260425T140200Z
LAST-MODIFIED:20260105T200149Z
SUMMARY:Trop: Sommerafslutning
DESCRIPTION:Sommerafslutning for hele gruppen\n\n
URL:https://www.rethingh-gruppen.dk/begivenhed/trop-sommerafslutning
DTSTART:20260617T170000Z
DTEND:20260617T190000Z
LOCATION:
END:VEVENT
BEGIN:VEVENT
UID:gruppeweb.dk:4306:event:713
DTSTAMP:20260425T140200Z
LAST-MODIFIED:20260409T184121Z
SUMMARY:Spejdernes Lejr 2026 (eftertilmelding)
DESCRIPTION:Spejdernes Lejr foregår fra 18. til 26. juli 2026 i Hedeland N
 aturpark. Det  \ner otte dage fulde af sjove aktiviteter\, nye venskaber\,
  store oplevelser og  \nmasser af spejderliv sammen med dem du kender fra 
 gruppen\, men med rig  \nmulighed for at møde spejdere på tværs af korp
 s fra resten af Danmark og  \nhele verden.\n\n\nVi fra Rethingh-gruppen sk
 al selvfølgelig med\, og vi håber\, at DU også vil  \nvære en del af o
 plevelsen!\n\nHvorfor skal du med på Spejdernes Lejr 2026?\n\nSpejdernes 
 Lejr er en lidt større oplevelse\, end du er vant til fra  \ngruppeture o
 g centerlejre. Lejren foregår hvert fjerde år forskellige  \nsteder i Da
 nmark. Hvis du tager med på Spejdernes Lejr 2026 får du:\n\n * En hel ug
 e fyldt med aktiviteter\, udfordringer og oplevelser.\n * Et unikt fælles
 skab med spejdere fra hele landet (og resten af verden).\n * Oplevelsen af
  en spejderby\, hvor 30.000 børn\, unge og voksne bor\, leger\,\n   lære
 r og arbejder sammen.\n * Minder for livet!    \n\n\n\nHvis man ønske
 r at deltage som frivillig så se mulighederne og tilmeld dig  \nher: http
 s://spejderneslejr.dk/de-frivilliges-faellesskab/ [1]\n\n\n[1] https://spe
 jderneslejr.dk/de-frivilliges-faellesskab/\n
URL:https://www.rethingh-gruppen.dk/begivenhed/spejdernes-lejr-2026-efterti
 lmelding
DTSTART:20260718T050000Z
DTEND:20260726T140000Z
LOCATION:Rethingh-Gruppen\, Svendborgvej 87\, 5750 Ringe
END:VEVENT
BEGIN:VEVENT
UID:gruppeweb.dk:4306:event:719
DTSTAMP:20260425T140200Z
LAST-MODIFIED:20260409T184122Z
SUMMARY:Spejdernes Lejr 2026 (kopi)
DESCRIPTION:Spejdernes Lejr foregår fra 18. til 26. juli 2026 i Hedeland N
 aturpark. Det  \ner otte dage fulde af sjove aktiviteter\, nye venskaber\,
  store oplevelser og  \nmasser af spejderliv sammen med dem du kender fra 
 gruppen\, men med rig  \nmulighed for at møde spejdere på tværs af korp
 s fra resten af Danmark og  \nhele verden.\n\n\nVi fra Rethingh-gruppen sk
 al selvfølgelig med\, og vi håber\, at DU også vil  \nvære en del af o
 plevelsen!\n\nHvorfor skal du med på Spejdernes Lejr 2026?\n\nSpejdernes 
 Lejr er en lidt større oplevelse\, end du er vant til fra  \ngruppeture o
 g centerlejre. Lejren foregår hvert fjerde år forskellige  \nsteder i Da
 nmark. Hvis du tager med på Spejdernes Lejr 2026 får du:\n\n * En hel ug
 e fyldt med aktiviteter\, udfordringer og oplevelser.\n * Et unikt fælles
 skab med spejdere fra hele landet (og resten af verden).\n * Oplevelsen af
  en spejderby\, hvor 30.000 børn\, unge og voksne bor\, leger\,\n   lære
 r og arbejder sammen.\n * Minder for livet!    \n\n\n\nHvis man ønske
 r at deltage som frivillig så se mulighederne og tilmeld dig  \nher: http
 s://spejderneslejr.dk/de-frivilliges-faellesskab/ [1]\n\n\n[1] https://spe
 jderneslejr.dk/de-frivilliges-faellesskab/\n
URL:https://www.rethingh-gruppen.dk/begivenhed/spejdernes-lejr-2026-kopi
DTSTART:20260718T050000Z
DTEND:20260726T140000Z
LOCATION:Rethingh-Gruppen\, Svendborgvej 87\, 5750 Ringe
END:VEVENT
END:VCALENDAR
